BEGIN:VCALENDAR
VERSION:2.0
PRODID:-//Wick It Candle Bar - ECPv6.6.4.2//NONSGML v1.0//EN
CALSCALE:GREGORIAN
METHOD:PUBLISH
X-ORIGINAL-URL:https://wickitcandlebar.com
X-WR-CALDESC:Events for Wick It Candle Bar
REFRESH-INTERVAL;VALUE=DURATION:PT1H
X-Robots-Tag:noindex
X-PUBLISHED-TTL:PT1H
BEGIN:VTIMEZONE
TZID:America/New_York
BEGIN:DAYLIGHT
TZOFFSETFROM:-0500
TZOFFSETTO:-0400
TZNAME:EDT
DTSTART:20260308T070000
END:DAYLIGHT
BEGIN:STANDARD
TZOFFSETFROM:-0400
TZOFFSETTO:-0500
TZNAME:EST
DTSTART:20261101T060000
END:STANDARD
END:VTIMEZONE
BEGIN:VEVENT
DTSTART;TZID=America/New_York:20260425T090000
DTEND;TZID=America/New_York:20260425T150000
DTSTAMP:20260420T115426
CREATED:20260313T180129Z
LAST-MODIFIED:20260313T180129Z
UID:3445-1777107600-1777129200@wickitcandlebar.com
SUMMARY:Earth Day Festival
DESCRIPTION:Celebrate Earth Day at one of North America’s largest Regenerative Organic Certified Farms! Rain or shine\, experience educational fun from Pocono Organics farm with presentations\, educational attractions\, displays\, vendors\, fabulous food and refreshments featuring Pocono Organics Cafe and more.
URL:https://wickitcandlebar.com/event-calendar/earth-day-festival-2/
LOCATION:Pocono Organics\, 1015 Long Pond Road\, Blakeslee\, PA\, 18610\, United States
CATEGORIES:Vendor
END:VEVENT
BEGIN:VEVENT
DTSTART;TZID=America/New_York:20260516T090000
DTEND;TZID=America/New_York:20260516T160000
DTSTAMP:20260420T115426
CREATED:20260313T181251Z
LAST-MODIFIED:20260316T172230Z
UID:3446-1778922000-1778947200@wickitcandlebar.com
SUMMARY:CCVS May Fair
DESCRIPTION:Join Wick It Candle as we support the Monroe Animal League and Monroe County Meals-On-Wheels.  Vendors will showcase their products and services at this lively event featuring food\, fun\, live entertainment\, a vaccine clinic\, and more. \n 
URL:https://wickitcandlebar.com/event-calendar/creature-comforts-vendor-event/
LOCATION:Creature Comforts Veterinary Service\, 820 Route 115\, Saylorsburg\, PA\, 18353\, United States
CATEGORIES:Vendor
END:VEVENT
BEGIN:VEVENT
DTSTART;TZID=America/New_York:20260517T080000
DTEND;TZID=America/New_York:20260517T173000
DTSTAMP:20260420T115426
CREATED:20260313T181754Z
LAST-MODIFIED:20260313T181754Z
UID:3448-1779004800-1779039000@wickitcandlebar.com
SUMMARY:Bridal Show at Oaks Event Center
DESCRIPTION:Join Wick It Candle at the Pennsylvania Bridal & Wedding Expo. \nFind the perfect gown\, DJ\, photographer\, \nreception venue\, band\, honeymoon destination \nand so much more!
URL:https://wickitcandlebar.com/event-calendar/bridal-show-at-oaks-event-center/
LOCATION:Greater Philadelphia Expo Center\, 100 Station Ave\, Oaks\, PA\, 19456\, United States
CATEGORIES:Vendor
END:VEVENT
BEGIN:VEVENT
DTSTART;TZID=America/New_York:20260607T110000
DTEND;TZID=America/New_York:20260607T170000
DTSTAMP:20260420T115426
CREATED:20260313T183523Z
LAST-MODIFIED:20260313T183523Z
UID:3451-1780830000-1780851600@wickitcandlebar.com
SUMMARY:Pocono Pride Festival
DESCRIPTION:PRIDE in the Poconos Celebration is an opportunity to champion inclusion and wellness for the LGBTQAI+ community and allies in Monroe County and surrounding areas. This fun day in the heart of Stroudsburg has music\, live entertainment\, crafts\, children’s activities\, a teen space\, food trucks\, and more! Local drag Kings/Queens and DJ’s provide all-day entertainment. Resource tables provide tools and information for staying safe and well. Come celebrate our community’s effort to build a connected\, supportive\, and well Poconos for all!
URL:https://wickitcandlebar.com/event-calendar/pocono-pride-festival/
LOCATION:Courthouse Square\, Courthouse Square\, Stroudsburg\, PA\, 18360\, United States
CATEGORIES:Vendor
END:VEVENT
END:VCALENDAR