BEGIN:VCALENDAR
VERSION:2.0
PRODID:-//Wick It Candle Bar - ECPv6.6.4.2//NONSGML v1.0//EN
CALSCALE:GREGORIAN
METHOD:PUBLISH
X-WR-CALNAME:Wick It Candle Bar
X-ORIGINAL-URL:https://wickitcandlebar.com
X-WR-CALDESC:Events for Wick It Candle Bar
REFRESH-INTERVAL;VALUE=DURATION:PT1H
X-Robots-Tag:noindex
X-PUBLISHED-TTL:PT1H
BEGIN:VTIMEZONE

END:VTIMEZONE
BEGIN:VEVENT
DTSTART;TZID=America/New_York:20260411T120000
DTEND;TZID=America/New_York:20260411T170000
DTSTAMP:20260420T171336
CREATED:20260313T175541Z
LAST-MODIFIED:20260313T175541Z
UID:3444-1775908800-1775926800@wickitcandlebar.com
SUMMARY:Candle Making & Vendor Event for Autism Awareness
DESCRIPTION:You are invited to raise awareness\, share resources\, and support the neurodivergent community. \nThe walk is a fun family event. After\, guests are invited to Unifying the Community: We Are One Event where there will be bounce houses\, music\, a sensory museum\, STEAM stations\, face painting\, a live panel discussion with leading experts in the field of autism\, vendors\, food trucks\, community resources\, raffles and more.
URL:https://wickitcandlebar.com/event-calendar/candle-making-vendor-event-for-autism-awareness/
LOCATION:East Stroudsburg University\, 200 Prospect Street\, East Stroudsburg\, PA\, 18301\, United States
CATEGORIES:Candle Making Class,Vendor
END:VEVENT
BEGIN:VEVENT
DTSTART;TZID=America/New_York:20260420T171336
DTEND;TZID=America/New_York:20260420T171336
DTSTAMP:20260420T171336
CREATED:20240917T182734Z
LAST-MODIFIED:20240917T182734Z
UID:1518-0-0@wickitcandlebar.com
SUMMARY:50th Anniversary Carbonalien Festival
DESCRIPTION:Join us for an Extraterrestrial Festival 50 years in the making! The festival will showcase Out of this World Vendors\, Great Food\, Wine Beer and Spirits\, Live Music\, Art\, Photo Ops with The Garrison Carida\, and an Immersive Theatrical “Russell Park” Experience\, at the 1974 Crash Site.
URL:https://wickitcandlebar.com/event-calendar/50th-anniversary-carbonalien-festival/
LOCATION:PA
CATEGORIES:Vendor
END:VEVENT
END:VCALENDAR