BEGIN:VCALENDAR
VERSION:2.0
PRODID:-//Wick It Candle Bar - ECPv6.6.4.2//NONSGML v1.0//EN
CALSCALE:GREGORIAN
METHOD:PUBLISH
X-WR-CALNAME:Wick It Candle Bar
X-ORIGINAL-URL:https://wickitcandlebar.com
X-WR-CALDESC:Events for Wick It Candle Bar
REFRESH-INTERVAL;VALUE=DURATION:PT1H
X-Robots-Tag:noindex
X-PUBLISHED-TTL:PT1H
BEGIN:VTIMEZONE
TZID:America/New_York
BEGIN:DAYLIGHT
TZOFFSETFROM:-0500
TZOFFSETTO:-0400
TZNAME:EDT
DTSTART:20260308T070000
END:DAYLIGHT
BEGIN:STANDARD
TZOFFSETFROM:-0400
TZOFFSETTO:-0500
TZNAME:EST
DTSTART:20261101T060000
END:STANDARD
END:VTIMEZONE
BEGIN:VEVENT
DTSTART;TZID=America/New_York:20260517T080000
DTEND;TZID=America/New_York:20260517T173000
DTSTAMP:20260420T171034
CREATED:20260313T181754Z
LAST-MODIFIED:20260313T181754Z
UID:3448-1779004800-1779039000@wickitcandlebar.com
SUMMARY:Bridal Show at Oaks Event Center
DESCRIPTION:Join Wick It Candle at the Pennsylvania Bridal & Wedding Expo. \nFind the perfect gown\, DJ\, photographer\, \nreception venue\, band\, honeymoon destination \nand so much more!
URL:https://wickitcandlebar.com/event-calendar/bridal-show-at-oaks-event-center/
LOCATION:Greater Philadelphia Expo Center\, 100 Station Ave\, Oaks\, PA\, 19456\, United States
CATEGORIES:Vendor
END:VEVENT
END:VCALENDAR