BEGIN:VCALENDAR
VERSION:2.0
PRODID:-//Wick It Candle Bar - ECPv6.6.4.2//NONSGML v1.0//EN
CALSCALE:GREGORIAN
METHOD:PUBLISH
X-WR-CALNAME:Wick It Candle Bar
X-ORIGINAL-URL:https://wickitcandlebar.com
X-WR-CALDESC:Events for Wick It Candle Bar
REFRESH-INTERVAL;VALUE=DURATION:PT1H
X-Robots-Tag:noindex
X-PUBLISHED-TTL:PT1H
BEGIN:VTIMEZONE
TZID:America/New_York
BEGIN:DAYLIGHT
TZOFFSETFROM:-0500
TZOFFSETTO:-0400
TZNAME:EDT
DTSTART:20260308T070000
END:DAYLIGHT
BEGIN:STANDARD
TZOFFSETFROM:-0400
TZOFFSETTO:-0500
TZNAME:EST
DTSTART:20261101T060000
END:STANDARD
END:VTIMEZONE
BEGIN:VEVENT
DTSTART;TZID=America/New_York:20260516T110000
DTEND;TZID=America/New_York:20260516T190000
DTSTAMP:20260423T135059
CREATED:20251216T210953Z
LAST-MODIFIED:20251216T210953Z
UID:3359-1778929200-1778958000@wickitcandlebar.com
SUMMARY:Flower Moon Festival
DESCRIPTION:Join Wick It Candle for a one-day wellness festival designed to inspire and uplift! Their mission is to bring together community\, empowerment\, and spirituality through practical tools and modalities you can easily integrate into your daily life.
URL:https://wickitcandlebar.com/event-calendar/flower-moon-festival-2/
LOCATION:West End Fair Grounds\, 570 Fairgrounds Road\, Gilbert\, PA\, 18331\, United States
CATEGORIES:Vendor Event
END:VEVENT
END:VCALENDAR